BEGIN:VCALENDAR
VERSION:2.0
PRODID:-//ExoSustain - ECPv6.15.20//NONSGML v1.0//EN
CALSCALE:GREGORIAN
METHOD:PUBLISH
X-WR-CALNAME:ExoSustain
X-ORIGINAL-URL:https://exosustain.nl
X-WR-CALDESC:Evenementen voor ExoSustain
REFRESH-INTERVAL;VALUE=DURATION:PT1H
X-Robots-Tag:noindex
X-PUBLISHED-TTL:PT1H
BEGIN:VTIMEZONE
TZID:Europe/Amsterdam
BEGIN:DAYLIGHT
TZOFFSETFROM:+0100
TZOFFSETTO:+0200
TZNAME:CEST
DTSTART:20250330T010000
END:DAYLIGHT
BEGIN:STANDARD
TZOFFSETFROM:+0200
TZOFFSETTO:+0100
TZNAME:CET
DTSTART:20251026T010000
END:STANDARD
BEGIN:DAYLIGHT
TZOFFSETFROM:+0100
TZOFFSETTO:+0200
TZNAME:CEST
DTSTART:20260329T010000
END:DAYLIGHT
BEGIN:STANDARD
TZOFFSETFROM:+0200
TZOFFSETTO:+0100
TZNAME:CET
DTSTART:20261025T010000
END:STANDARD
BEGIN:DAYLIGHT
TZOFFSETFROM:+0100
TZOFFSETTO:+0200
TZNAME:CEST
DTSTART:20270328T010000
END:DAYLIGHT
BEGIN:STANDARD
TZOFFSETFROM:+0200
TZOFFSETTO:+0100
TZNAME:CET
DTSTART:20271031T010000
END:STANDARD
END:VTIMEZONE
BEGIN:VEVENT
DTSTART;TZID=Europe/Amsterdam:20261103T080000
DTEND;TZID=Europe/Amsterdam:20261105T170000
DTSTAMP:20260420T024406
CREATED:20260212T093532Z
LAST-MODIFIED:20260212T093532Z
UID:7145-1793692800-1793898000@exosustain.nl
SUMMARY:ICT & Logistiek 2026
DESCRIPTION:ICT & Logistiek 2026 is de vakbeurs waar digitalisering\, automatisering en innovatie in de logistieke sector samenkomen. Tijdens deze beurs is ExoSustain aanwezig om te laten zien hoe exoskeletten een concrete rol spelen in het verminderen van fysieke belasting in magazijnen\, distributiecentra en productieomgevingen. \nOp onze stand ervaren bezoekers hoe exoskeletten ondersteuning bieden bij tilwerk\, bukken en repeterende handelingen. We laten zien hoe deze oplossingen praktisch inzetbaar zijn in de dagelijkse operatie en hoe ze bijdragen aan minder fysieke klachten\, hogere inzetbaarheid van medewerkers en duurzame verbetering van arbeidsomstandigheden. \nExoSustain begeleidt organisaties bij de verantwoorde introductie van exoskeletten\, van eerste ervaring tot pilot en structurele inzet. ICT & Logistiek 2026 is voor ons hét moment om kennis te delen\, ervaringen uit de praktijk te bespreken en samen te kijken waar technologie écht waarde toevoegt op de werkvloer.
URL:https://exosustain.nl/event/ict-logistiek-2026/
LOCATION:Jaarbeurs\, Jaar­beurs­plein 6\, Utrecht\, Netherlands
ATTACH;FMTTYPE=image/jpeg:https://exosustain.nl/wp-content/uploads/2025/05/logo-ict-en-logistiek.jpg
END:VEVENT
END:VCALENDAR